BEGIN:VCALENDAR
VERSION:2.0
PRODID:-//Forum de Berre - ECPv6.5.0.1//NONSGML v1.0//EN
CALSCALE:GREGORIAN
METHOD:PUBLISH
X-WR-CALNAME:Forum de Berre
X-ORIGINAL-URL:https://forumdeberre.com
X-WR-CALDESC:évènements pour Forum de Berre
REFRESH-INTERVAL;VALUE=DURATION:PT1H
X-Robots-Tag:noindex
X-PUBLISHED-TTL:PT1H
BEGIN:VTIMEZONE
TZID:UTC
BEGIN:STANDARD
TZOFFSETFROM:+0000
TZOFFSETTO:+0000
TZNAME:UTC
DTSTART:20260101T000000
END:STANDARD
END:VTIMEZONE
BEGIN:VEVENT
DTSTART;TZID=UTC:20260605T143000
DTEND;TZID=UTC:20260605T160000
DTSTAMP:20260420T061339
CREATED:20250605T132842Z
LAST-MODIFIED:20250614T225332Z
UID:10000178-1780669800-1780675200@forumdeberre.com
SUMMARY:On n'a pas pris le temps de se dire au revoir
DESCRIPTION:Ciné-musique : Andalousie		\n				\n				\n		\n				\n				\n			\n		\n			26 March\n\n	\n\n	  - \n\n\n18h30\n\n		\n\n\n\n	\n	  -  \n\n\n22h00\n\n\n\n	\n		\n				\n				\n				\n			26 mars 2026 - Film à 18H30 / Concert à 21H30		\n				\n				\n				\n						\n					\n			\n						\n				\n					\n			\n						\n		\n				\n				\n				\n				\n			\n		\n			\n	Style\n		\n	Musique du monde\n			\n	Public\n		\n	Tout public\n			\n	Durée\n		\n	1h44\n			\n	Companie\n		\n	Film"La isla minima" de Alberto Rodriguez puis Zyriad avec Juan Carmona et ses musiciens\n			\n	Festival\n		\n	Festival Musi'terranée\, Cycle Carmen Project\n			\n	Information\n		\n	Retrouvez le détail de la soirée et du partenariat entre le ciné 89 et le Forum dans le Off de la saison\n	\n\n		\n				\n				\n				\n							Tarifs 						\n				\n				\n				\n			\n€12 à €34 		\n				\n				\n				\n					\n			\n						\n						Réservation\n		\n					\n		\n				\n				\n				\n				\n			\n	\n		\n				\n					\n		\n				\n			\n						\n				\n			\n	Ciné-musique : Andalousie		\n				\n				\n				\n							Film à 18h30La Isla minimaDe Alberto Rodriguez Avec Alberto Rodriguez\, Javier Gutiérrez Espagne – 2015 – 1h44 – VO Deux flics que tout oppose\, dans l’Espagne post-franquiste des années 1980\, sont envoyés dans une petite ville d’Andalousie  pour enquêter sur l’assassinat sauvage de deux adolescentes pendant les fêtes locales. Un polar intense ancré au coeur des marécages du delta du Guadalquivir\, région souvent méconnue de l’Andalousie. Concert à 21h30Au croisement entre modernité musicale et traditions les plus anciennes d’Andalousie\, Juan Carmona est un novateur. Loin des clichés\, l’artiste n’a cessé de repousser les frontières du flamenco\, tout en restant fidèle à ses racines. Artiste multirécompensé\, ses albums ont reçu plusieurs nominations aux Latin GRAMMY Awards catégorie « Meilleur Album Flamenco de l’année ». Cette ouverture vers d’autres univers musicaux illustre sa volonté de partager sa vision du flamenco avec un large public. Aujourd’hui\, son talent\, sa créativité et son engagement font de lui une figure incontournable du paysage musical mondial actuel. Dans ce spectacle\, Juan Carmona nous livre une lecture ardente d’un flamenco libre de fioritures\, aux rythmiques sophistiquées\, nourries d’échappées expérimentales qui forgent sa spécificité.  avec Juan Carmona (guitare) / Isidro Suarez (Percussions) / Domingo Patricio (flûte) / Sergio Di Finizio (basse) 						\n				\n				\n				\n					\n			\n						\n		\n				\n				\n				\n				\n					\n					\n				\n				\n				\n				\n					\n			\n						\n		\n				\n				\n				\n				\n					\n					\n				\n				\n				\n				\n					\n			\n						\n		\n				\n				\n				\n				\n			\n				\n				\n	\n		Ciné 89	\n	\n	\n\n4 cr Mirabeau\n	\n		\n		Berre-l'Étang\,\n\n\n	13130\n\n\n\n\n\n\n	\n					\n			04 42 74 93 00			\n	 \n\n\n\n	\n\n\n\n		\n	\n		\n				\n				\n						\n					\n			\n						\n				\n			\n	\n		\n\n				Les contes défaits - Printemps des minots	\n\n\n		\n	\n		Une petite Carmen - Création Printemps des minots			\n\n	\n\n		\n				\n					\n		\n					\n		\n					\n		\n					\n		\n		\n					\n		\n				\n				\n			Les prochains événements 		\n				\n				\n				\n			\n	\n		\n	\n		Chargement de la vue.	\n	\n		\n		\n		\n	\n\n\n		\n		\n\n		\n		\n\n	\n	\n	\n	\n	\n	\n	\n\n	\n	\n		\n	\n		\n	\n\n\n		\n	\n		\n	\n\n	\n\n\n	\n	Aujourd'hui\n\n	\n	\n		\n							\n					Maintenant				\n				\n					Maintenant				\n					\n					 - \n			\n				\n					30.04.2026				\n				\n					30 avril				\n			\n				\n	\n	\n		Select date.	\n	\n	\n	\n		\n	\n	\n		\n	\n\n\n	\n	\n\n\n\n\n		\n		\n\n			\n\n									\n					\n\n	\n	\n		\n	\n\n\n	\n		\n	\n		\n			Avr		\n		\n			22		\n	\n\n		\n			\n				\n			10h30		\n					 - \n			\n				11h15			\n				\n			\n	\n		ÇA CARTONNE – Printemps des minots	\n\n			\n	\n		€5 à €10	\n\n		\n	\n\n\n\n									\n					\n\n	\n	\n		\n	\n\n\n	\n		\n	\n		\n			Avr		\n		\n			22		\n	\n\n		\n			\n				\n			14h30		\n					 - \n			\n				15h15			\n				\n			\n	\n		ÇA CARTONNE – Printemps des minots	\n\n			\n	\n		€5 à €10	\n\n		\n	\n\n\n\n									\n					\n\n	\n	\n		\n	\n\n\n	\n		\n	\n		\n			Avr		\n		\n			30		\n	\n\n		\n			\n				\n			20h00		\n					 - \n			\n				22h00			\n				\n			\n	\n		Variations sur Starmania	\n\n			\n	\n		€5	\n\n		\n	\n\n\n\n				\n			\n\n		\n\n		\n	\n		\n	\n		\n		\n			Previous Évènements		\n	\n\n\n		\n	\n		Aujourd'hui	\n\n\n		\n	\n		\n			Next Évènements		\n		\n	\n\n	\n\n\n		\n	\n		\n			\n				S’abonner au calendrier			\n			\n		\n		\n			\n									\n\n	\n		Google Agenda	\n\n									\n\n	\n		iCalendar	\n\n									\n\n	\n		Outlook 365	\n\n									\n\n	\n		Outlook Live	\n\n									\n\n	\n		Exporter le fichier .ics	\n\n									\n\n	\n		Exporter le fichier Outlook .ics	\n\n							\n		\n	\n\n\n			\n\n\n\n		\n				\n				\n					\n				\n				\n						\n					\n			\n						\n				\n			S’abonner\, c’est simple et avantageux !		\n				\n				\n				\n							Vous réservez vos places et vous faites une économie sur le prix des billets. À tout moment de l’année\, en fonction de vos envies et de vos disponibilités\, vous pouvez choisir d’autres spectacles et vous 						\n				\n				\n				\n					\n			\n						\n		\n				\n				\n				\n				\n					\n			\n						\n		\n				\n				\n					\n		\n				\n			\n						\n				\n					\n			\n				\n					\n													\n								\n																	\n							\n						\n													\n								abonnement spectacles tout public							\n						\n											\n				\n			\n			\n			\n				\n											\n							Abonnement spectacles tout public						\n					\n											\n							Sélectionner au moins 3 spectacles dans la liste proposée et bénéficiez d'un tarif préférentiel de 12€ au lieu de 18€						\n					\n											\n							>						\n								\n		\n		\n		\n				\n				\n					\n		\n				\n			\n						\n				\n					\n			\n				\n					\n													\n								\n																	\n							\n						\n													\n								Abonnement spectacles jeune public							\n						\n													\n								(accompagnant)							\n											\n				\n			\n			\n			\n				\n											\n							Abonnement spectacles jeune public (accompagnant)						\n					\n											\n							Sélectionnez au moins 3 spectacles et bénéficiez d'un tarif abonné à 7€ pour les adultes et 5€ pour les enfants						\n					\n											\n							>						\n								\n		\n		\n		\n				\n				\n					\n		\n				\n			\n						\n				\n					\n			\n				\n					\n													\n								\n																	\n							\n						\n													\n								Abonnement spectacles jeune public							\n						\n													\n								(enfant)							\n											\n				\n			\n			\n			\n				\n											\n							Abonnement spectacles jeune public (enfant)						\n					\n											\n							Sélectionnez au moins 3 spectacles et bénéficiez d'un tarif abonné à 7€ pour les adultes et 5€ pour les enfants						\n					\n											\n							>
URL:https://forumdeberre.com/event/on-na-pas-pris-le-temps-de-se-dire-au-revoir-2/
LOCATION:Salle du Forum\, 834 Rue Fernand Léger\, Berre-l'Étang\, 13130\, France
CATEGORIES:Concert & théâtre,Tous les spectacles
ATTACH;FMTTYPE=image/jpeg:https://forumdeberre.com/wp-content/uploads/2025/06/19-on-na-pas-900X600pixel.jpg
END:VEVENT
BEGIN:VEVENT
DTSTART;TZID=UTC:20260605T203000
DTEND;TZID=UTC:20260605T220000
DTSTAMP:20260420T061340
CREATED:20250608T111857Z
LAST-MODIFIED:20250614T225319Z
UID:10000187-1780691400-1780696800@forumdeberre.com
SUMMARY:On n'a pas pris le temps de se dire au revoir
DESCRIPTION:Ciné-musique : Andalousie		\n				\n				\n		\n				\n				\n			\n		\n			26 March\n\n	\n\n	  - \n\n\n18h30\n\n		\n\n\n\n	\n	  -  \n\n\n22h00\n\n\n\n	\n		\n				\n				\n				\n			26 mars 2026 - Film à 18H30 / Concert à 21H30		\n				\n				\n				\n						\n					\n			\n						\n				\n					\n			\n						\n		\n				\n				\n				\n				\n			\n		\n			\n	Style\n		\n	Musique du monde\n			\n	Public\n		\n	Tout public\n			\n	Durée\n		\n	1h44\n			\n	Companie\n		\n	Film"La isla minima" de Alberto Rodriguez puis Zyriad avec Juan Carmona et ses musiciens\n			\n	Festival\n		\n	Festival Musi'terranée\, Cycle Carmen Project\n			\n	Information\n		\n	Retrouvez le détail de la soirée et du partenariat entre le ciné 89 et le Forum dans le Off de la saison\n	\n\n		\n				\n				\n				\n							Tarifs 						\n				\n				\n				\n			\n€12 à €34 		\n				\n				\n				\n					\n			\n						\n						Réservation\n		\n					\n		\n				\n				\n				\n				\n			\n	\n		\n				\n					\n		\n				\n			\n						\n				\n			\n	Ciné-musique : Andalousie		\n				\n				\n				\n							Film à 18h30La Isla minimaDe Alberto Rodriguez Avec Alberto Rodriguez\, Javier Gutiérrez Espagne – 2015 – 1h44 – VO Deux flics que tout oppose\, dans l’Espagne post-franquiste des années 1980\, sont envoyés dans une petite ville d’Andalousie  pour enquêter sur l’assassinat sauvage de deux adolescentes pendant les fêtes locales. Un polar intense ancré au coeur des marécages du delta du Guadalquivir\, région souvent méconnue de l’Andalousie. Concert à 21h30Au croisement entre modernité musicale et traditions les plus anciennes d’Andalousie\, Juan Carmona est un novateur. Loin des clichés\, l’artiste n’a cessé de repousser les frontières du flamenco\, tout en restant fidèle à ses racines. Artiste multirécompensé\, ses albums ont reçu plusieurs nominations aux Latin GRAMMY Awards catégorie « Meilleur Album Flamenco de l’année ». Cette ouverture vers d’autres univers musicaux illustre sa volonté de partager sa vision du flamenco avec un large public. Aujourd’hui\, son talent\, sa créativité et son engagement font de lui une figure incontournable du paysage musical mondial actuel. Dans ce spectacle\, Juan Carmona nous livre une lecture ardente d’un flamenco libre de fioritures\, aux rythmiques sophistiquées\, nourries d’échappées expérimentales qui forgent sa spécificité.  avec Juan Carmona (guitare) / Isidro Suarez (Percussions) / Domingo Patricio (flûte) / Sergio Di Finizio (basse) 						\n				\n				\n				\n					\n			\n						\n		\n				\n				\n				\n				\n					\n					\n				\n				\n				\n				\n					\n			\n						\n		\n				\n				\n				\n				\n					\n					\n				\n				\n				\n				\n					\n			\n						\n		\n				\n				\n				\n				\n			\n				\n				\n	\n		Ciné 89	\n	\n	\n\n4 cr Mirabeau\n	\n		\n		Berre-l'Étang\,\n\n\n	13130\n\n\n\n\n\n\n	\n					\n			04 42 74 93 00			\n	 \n\n\n\n	\n\n\n\n		\n	\n		\n				\n				\n						\n					\n			\n						\n				\n			\n	\n		\n\n				Les contes défaits - Printemps des minots	\n\n\n		\n	\n		Une petite Carmen - Création Printemps des minots			\n\n	\n\n		\n				\n					\n		\n					\n		\n					\n		\n					\n		\n		\n					\n		\n				\n				\n			Les prochains événements 		\n				\n				\n				\n			\n	\n		\n	\n		Chargement de la vue.	\n	\n		\n		\n		\n	\n\n\n		\n		\n\n		\n		\n\n	\n	\n	\n	\n	\n	\n	\n\n	\n	\n		\n	\n		\n	\n\n\n		\n	\n		\n	\n\n	\n\n\n	\n	Aujourd'hui\n\n	\n	\n		\n							\n					Maintenant				\n				\n					Maintenant				\n					\n					 - \n			\n				\n					30.04.2026				\n				\n					30 avril				\n			\n				\n	\n	\n		Select date.	\n	\n	\n	\n		\n	\n	\n		\n	\n\n\n	\n	\n\n\n\n\n		\n		\n\n			\n\n									\n					\n\n	\n	\n		\n	\n\n\n	\n		\n	\n		\n			Avr		\n		\n			22		\n	\n\n		\n			\n				\n			10h30		\n					 - \n			\n				11h15			\n				\n			\n	\n		ÇA CARTONNE – Printemps des minots	\n\n			\n	\n		€5 à €10	\n\n		\n	\n\n\n\n									\n					\n\n	\n	\n		\n	\n\n\n	\n		\n	\n		\n			Avr		\n		\n			22		\n	\n\n		\n			\n				\n			14h30		\n					 - \n			\n				15h15			\n				\n			\n	\n		ÇA CARTONNE – Printemps des minots	\n\n			\n	\n		€5 à €10	\n\n		\n	\n\n\n\n									\n					\n\n	\n	\n		\n	\n\n\n	\n		\n	\n		\n			Avr		\n		\n			30		\n	\n\n		\n			\n				\n			20h00		\n					 - \n			\n				22h00			\n				\n			\n	\n		Variations sur Starmania	\n\n			\n	\n		€5	\n\n		\n	\n\n\n\n				\n			\n\n		\n\n		\n	\n		\n	\n		\n		\n			Previous Évènements		\n	\n\n\n		\n	\n		Aujourd'hui	\n\n\n		\n	\n		\n			Next Évènements		\n		\n	\n\n	\n\n\n		\n	\n		\n			\n				S’abonner au calendrier			\n			\n		\n		\n			\n									\n\n	\n		Google Agenda	\n\n									\n\n	\n		iCalendar	\n\n									\n\n	\n		Outlook 365	\n\n									\n\n	\n		Outlook Live	\n\n									\n\n	\n		Exporter le fichier .ics	\n\n									\n\n	\n		Exporter le fichier Outlook .ics	\n\n							\n		\n	\n\n\n			\n\n\n\n		\n				\n				\n					\n				\n				\n						\n					\n			\n						\n				\n			S’abonner\, c’est simple et avantageux !		\n				\n				\n				\n							Vous réservez vos places et vous faites une économie sur le prix des billets. À tout moment de l’année\, en fonction de vos envies et de vos disponibilités\, vous pouvez choisir d’autres spectacles et vous 						\n				\n				\n				\n					\n			\n						\n		\n				\n				\n				\n				\n					\n			\n						\n		\n				\n				\n					\n		\n				\n			\n						\n				\n					\n			\n				\n					\n													\n								\n																	\n							\n						\n													\n								abonnement spectacles tout public							\n						\n											\n				\n			\n			\n			\n				\n											\n							Abonnement spectacles tout public						\n					\n											\n							Sélectionner au moins 3 spectacles dans la liste proposée et bénéficiez d'un tarif préférentiel de 12€ au lieu de 18€						\n					\n											\n							>						\n								\n		\n		\n		\n				\n				\n					\n		\n				\n			\n						\n				\n					\n			\n				\n					\n													\n								\n																	\n							\n						\n													\n								Abonnement spectacles jeune public							\n						\n													\n								(accompagnant)							\n											\n				\n			\n			\n			\n				\n											\n							Abonnement spectacles jeune public (accompagnant)						\n					\n											\n							Sélectionnez au moins 3 spectacles et bénéficiez d'un tarif abonné à 7€ pour les adultes et 5€ pour les enfants						\n					\n											\n							>						\n								\n		\n		\n		\n				\n				\n					\n		\n				\n			\n						\n				\n					\n			\n				\n					\n													\n								\n																	\n							\n						\n													\n								Abonnement spectacles jeune public							\n						\n													\n								(enfant)							\n											\n				\n			\n			\n			\n				\n											\n							Abonnement spectacles jeune public (enfant)						\n					\n											\n							Sélectionnez au moins 3 spectacles et bénéficiez d'un tarif abonné à 7€ pour les adultes et 5€ pour les enfants						\n					\n											\n							>
URL:https://forumdeberre.com/event/on-na-pas-pris-le-temps-de-se-dire-au-revoir/
LOCATION:Salle du Forum\, 834 Rue Fernand Léger\, Berre-l'Étang\, 13130\, France
CATEGORIES:Concert & théâtre,Tous les spectacles
ATTACH;FMTTYPE=image/jpeg:https://forumdeberre.com/wp-content/uploads/2025/06/19-on-na-pas-900X600pixel.jpg
END:VEVENT
BEGIN:VEVENT
DTSTART;TZID=UTC:20260627T200000
DTEND;TZID=UTC:20260627T220000
DTSTAMP:20260420T061340
CREATED:20250605T132855Z
LAST-MODIFIED:20260305T142225Z
UID:10000179-1782590400-1782597600@forumdeberre.com
SUMMARY:Carmen\, l'Opéra Rock
DESCRIPTION:Ciné-musique : Andalousie		\n				\n				\n		\n				\n				\n			\n		\n			26 March\n\n	\n\n	  - \n\n\n18h30\n\n		\n\n\n\n	\n	  -  \n\n\n22h00\n\n\n\n	\n		\n				\n				\n				\n			26 mars 2026 - Film à 18H30 / Concert à 21H30		\n				\n				\n				\n						\n					\n			\n						\n				\n					\n			\n						\n		\n				\n				\n				\n				\n			\n		\n			\n	Style\n		\n	Musique du monde\n			\n	Public\n		\n	Tout public\n			\n	Durée\n		\n	1h44\n			\n	Companie\n		\n	Film"La isla minima" de Alberto Rodriguez puis Zyriad avec Juan Carmona et ses musiciens\n			\n	Festival\n		\n	Festival Musi'terranée\, Cycle Carmen Project\n			\n	Information\n		\n	Retrouvez le détail de la soirée et du partenariat entre le ciné 89 et le Forum dans le Off de la saison\n	\n\n		\n				\n				\n				\n							Tarifs 						\n				\n				\n				\n			\n€12 à €34 		\n				\n				\n				\n					\n			\n						\n						Réservation\n		\n					\n		\n				\n				\n				\n				\n			\n	\n		\n				\n					\n		\n				\n			\n						\n				\n			\n	Ciné-musique : Andalousie		\n				\n				\n				\n							Film à 18h30La Isla minimaDe Alberto Rodriguez Avec Alberto Rodriguez\, Javier Gutiérrez Espagne – 2015 – 1h44 – VO Deux flics que tout oppose\, dans l’Espagne post-franquiste des années 1980\, sont envoyés dans une petite ville d’Andalousie  pour enquêter sur l’assassinat sauvage de deux adolescentes pendant les fêtes locales. Un polar intense ancré au coeur des marécages du delta du Guadalquivir\, région souvent méconnue de l’Andalousie. Concert à 21h30Au croisement entre modernité musicale et traditions les plus anciennes d’Andalousie\, Juan Carmona est un novateur. Loin des clichés\, l’artiste n’a cessé de repousser les frontières du flamenco\, tout en restant fidèle à ses racines. Artiste multirécompensé\, ses albums ont reçu plusieurs nominations aux Latin GRAMMY Awards catégorie « Meilleur Album Flamenco de l’année ». Cette ouverture vers d’autres univers musicaux illustre sa volonté de partager sa vision du flamenco avec un large public. Aujourd’hui\, son talent\, sa créativité et son engagement font de lui une figure incontournable du paysage musical mondial actuel. Dans ce spectacle\, Juan Carmona nous livre une lecture ardente d’un flamenco libre de fioritures\, aux rythmiques sophistiquées\, nourries d’échappées expérimentales qui forgent sa spécificité.  avec Juan Carmona (guitare) / Isidro Suarez (Percussions) / Domingo Patricio (flûte) / Sergio Di Finizio (basse) 						\n				\n				\n				\n					\n			\n						\n		\n				\n				\n				\n				\n					\n					\n				\n				\n				\n				\n					\n			\n						\n		\n				\n				\n				\n				\n					\n					\n				\n				\n				\n				\n					\n			\n						\n		\n				\n				\n				\n				\n			\n				\n				\n	\n		Ciné 89	\n	\n	\n\n4 cr Mirabeau\n	\n		\n		Berre-l'Étang\,\n\n\n	13130\n\n\n\n\n\n\n	\n					\n			04 42 74 93 00			\n	 \n\n\n\n	\n\n\n\n		\n	\n		\n				\n				\n						\n					\n			\n						\n				\n			\n	\n		\n\n				Les contes défaits - Printemps des minots	\n\n\n		\n	\n		Une petite Carmen - Création Printemps des minots			\n\n	\n\n		\n				\n					\n		\n					\n		\n					\n		\n					\n		\n		\n					\n		\n				\n				\n			Les prochains événements 		\n				\n				\n				\n			\n	\n		\n	\n		Chargement de la vue.	\n	\n		\n		\n		\n	\n\n\n		\n		\n\n		\n		\n\n	\n	\n	\n	\n	\n	\n	\n\n	\n	\n		\n	\n		\n	\n\n\n		\n	\n		\n	\n\n	\n\n\n	\n	Aujourd'hui\n\n	\n	\n		\n							\n					Maintenant				\n				\n					Maintenant				\n					\n					 - \n			\n				\n					30.04.2026				\n				\n					30 avril				\n			\n				\n	\n	\n		Select date.	\n	\n	\n	\n		\n	\n	\n		\n	\n\n\n	\n	\n\n\n\n\n		\n		\n\n			\n\n									\n					\n\n	\n	\n		\n	\n\n\n	\n		\n	\n		\n			Avr		\n		\n			22		\n	\n\n		\n			\n				\n			10h30		\n					 - \n			\n				11h15			\n				\n			\n	\n		ÇA CARTONNE – Printemps des minots	\n\n			\n	\n		€5 à €10	\n\n		\n	\n\n\n\n									\n					\n\n	\n	\n		\n	\n\n\n	\n		\n	\n		\n			Avr		\n		\n			22		\n	\n\n		\n			\n				\n			14h30		\n					 - \n			\n				15h15			\n				\n			\n	\n		ÇA CARTONNE – Printemps des minots	\n\n			\n	\n		€5 à €10	\n\n		\n	\n\n\n\n									\n					\n\n	\n	\n		\n	\n\n\n	\n		\n	\n		\n			Avr		\n		\n			30		\n	\n\n		\n			\n				\n			20h00		\n					 - \n			\n				22h00			\n				\n			\n	\n		Variations sur Starmania	\n\n			\n	\n		€5	\n\n		\n	\n\n\n\n				\n			\n\n		\n\n		\n	\n		\n	\n		\n		\n			Previous Évènements		\n	\n\n\n		\n	\n		Aujourd'hui	\n\n\n		\n	\n		\n			Next Évènements		\n		\n	\n\n	\n\n\n		\n	\n		\n			\n				S’abonner au calendrier			\n			\n		\n		\n			\n									\n\n	\n		Google Agenda	\n\n									\n\n	\n		iCalendar	\n\n									\n\n	\n		Outlook 365	\n\n									\n\n	\n		Outlook Live	\n\n									\n\n	\n		Exporter le fichier .ics	\n\n									\n\n	\n		Exporter le fichier Outlook .ics	\n\n							\n		\n	\n\n\n			\n\n\n\n		\n				\n				\n					\n				\n				\n						\n					\n			\n						\n				\n			S’abonner\, c’est simple et avantageux !		\n				\n				\n				\n							Vous réservez vos places et vous faites une économie sur le prix des billets. À tout moment de l’année\, en fonction de vos envies et de vos disponibilités\, vous pouvez choisir d’autres spectacles et vous 						\n				\n				\n				\n					\n			\n						\n		\n				\n				\n				\n				\n					\n			\n						\n		\n				\n				\n					\n		\n				\n			\n						\n				\n					\n			\n				\n					\n													\n								\n																	\n							\n						\n													\n								abonnement spectacles tout public							\n						\n											\n				\n			\n			\n			\n				\n											\n							Abonnement spectacles tout public						\n					\n											\n							Sélectionner au moins 3 spectacles dans la liste proposée et bénéficiez d'un tarif préférentiel de 12€ au lieu de 18€						\n					\n											\n							>						\n								\n		\n		\n		\n				\n				\n					\n		\n				\n			\n						\n				\n					\n			\n				\n					\n													\n								\n																	\n							\n						\n													\n								Abonnement spectacles jeune public							\n						\n													\n								(accompagnant)							\n											\n				\n			\n			\n			\n				\n											\n							Abonnement spectacles jeune public (accompagnant)						\n					\n											\n							Sélectionnez au moins 3 spectacles et bénéficiez d'un tarif abonné à 7€ pour les adultes et 5€ pour les enfants						\n					\n											\n							>						\n								\n		\n		\n		\n				\n				\n					\n		\n				\n			\n						\n				\n					\n			\n				\n					\n													\n								\n																	\n							\n						\n													\n								Abonnement spectacles jeune public							\n						\n													\n								(enfant)							\n											\n				\n			\n			\n			\n				\n											\n							Abonnement spectacles jeune public (enfant)						\n					\n											\n							Sélectionnez au moins 3 spectacles et bénéficiez d'un tarif abonné à 7€ pour les adultes et 5€ pour les enfants						\n					\n											\n							>
URL:https://forumdeberre.com/event/carmen-lopera-rock/
CATEGORIES:Concert & théâtre,Évènements,Tous les spectacles
ATTACH;FMTTYPE=image/jpeg:https://forumdeberre.com/wp-content/uploads/2025/06/20-Carmen-lopera-rock-900x600pixel.jpg
END:VEVENT
END:VCALENDAR